BEGIN:VCALENDAR
VERSION:2.0
PRODID:icalendar-ruby
CALSCALE:GREGORIAN
METHOD:PUBLISH
BEGIN:VTIMEZONE
TZID:Australia/Sydney
BEGIN:DAYLIGHT
DTSTART:20261004T030000
TZOFFSETFROM:+1000
TZOFFSETTO:+1100
RRULE:FREQ=YEARLY;BYDAY=1SU;BYMONTH=10
TZNAME:AEDT
END:DAYLIGHT
BEGIN:STANDARD
DTSTART:20260405T020000
TZOFFSETFROM:+1100
TZOFFSETTO:+1000
RRULE:FREQ=YEARLY;BYDAY=1SU;BYMONTH=4
TZNAME:AEST
END:STANDARD
END:VTIMEZONE
BEGIN:VEVENT
DTSTAMP:20260420T191401Z
UID:inspection_3003387
DTSTART;TZID=Australia/Sydney:20260421T143000
DTEND;TZID=Australia/Sydney:20260421T144500
CLASS:PUBLIC
CREATED:20260418T220115
DESCRIPTION: 
LAST-MODIFIED:20260418T220115
LOCATION:Unit 5 / 6 Warners Avenue\, BONDI BEACH NSW 2026\, Australia
SUMMARY:Unit 5 / 6 Warners Avenue\,  Inspection
URL;VALUE=URI:http://www.bondirealty.com.au/
END:VEVENT
END:VCALENDAR
